{
 "currentVersion": 10.51,
 "serviceDescription": "Calhoun County, SC 2004 aerial photography magery",
 "mapName": "Layers",
 "description": "",
 "copyrightText": "",
 "supportsDynamicLayers": true,
 "layers": [],
 "tables": [],
 "spatialReference": {
  "wkid": 2273,
  "latestWkid": 2273
 },
 "singleFusedMapCache": true,
 "tileInfo": {
  "rows": 256,
  "cols": 256,
  "dpi": 96,
  "format": "JPEG",
  "compressionQuality": 75,
  "origin": {
   "x": -122907600,
   "y": 157014500
  },
  "spatialReference": {
   "wkid": 2273,
   "latestWkid": 2273
  },
  "lods": [
   {
    "level": 0,
    "resolution": 217.0143229175347,
    "scale": 250000
   },
   {
    "level": 1,
    "resolution": 86.8057291670139,
    "scale": 100000
   },
   {
    "level": 2,
    "resolution": 55.00011000022,
    "scale": 63360
   },
   {
    "level": 3,
    "resolution": 20.833375000083333,
    "scale": 24000
   },
   {
    "level": 4,
    "resolution": 10.416687500041666,
    "scale": 12000
   },
   {
    "level": 5,
    "resolution": 6.8750137500275,
    "scale": 7920
   },
   {
    "level": 6,
    "resolution": 4.166675000016666,
    "scale": 4800
   },
   {
    "level": 7,
    "resolution": 2.083337500008333,
    "scale": 2400
   },
   {
    "level": 8,
    "resolution": 1.0416687500041666,
    "scale": 1200
   },
   {
    "level": 9,
    "resolution": 0.5208343750020833,
    "scale": 600
   }
  ]
 },
 "initialExtent": {
  "xmin": 1929302.1895497735,
  "ymin": 644059.8131242592,
  "xmax": 2208324.608022407,
  "ymax": 747077.875,
  "spatialReference": {
   "wkid": 2273,
   "latestWkid": 2273
  }
 },
 "fullExtent": {
  "xmin": 1978001.5475721806,
  "ymin": 588000.5144356936,
  "xmax": 2159625.25,
  "ymax": 747077.875,
  "spatialReference": {
   "wkid": 2273,
   "latestWkid": 2273
  }
 },
 "minScale": 250000,
 "maxScale": 600,
 "units": "esriFeet",
 "supportedImageFormatTypes": "PNG32,PNG24,PNG,JPG,DIB,TIFF,EMF,PS,PDF,GIF,SVG,SVGZ,BMP",
 "documentInfo": {
  "Title": "Imagery2004",
  "Author": "",
  "Comments": "Calhoun County, SC 2004 aerial photography magery",
  "Subject": "This map is prepared to create a cached map service for Calhoun County, SC 2004 Imagery",
  "Category": "",
  "AntialiasingMode": "None",
  "TextAntialiasingMode": "Force",
  "Keywords": "Calhoun County,SC,Imagery"
 },
 "capabilities": "Map,Query,Data",
 "supportedQueryFormats": "JSON, AMF, geoJSON",
 "exportTilesAllowed": false,
 "datumTransformations": [
  {
   "geoTransforms": [
    {
     "wkid": 108001,
     "latestWkid": 1241,
     "transformForward": true,
     "name": "NAD_1927_To_NAD_1983_NADCON"
    }
   ]
  },
  {
   "geoTransforms": [
    {
     "wkid": 108001,
     "latestWkid": 1241,
     "transformForward": false,
     "name": "NAD_1927_To_NAD_1983_NADCON"
    }
   ]
  }
 ],
 "supportsDatumTransformation": true,
 "maxRecordCount": 1000,
 "maxImageHeight": 4096,
 "maxImageWidth": 4096,
 "supportedExtensions": ""
}
