{
 "currentVersion": 10.51,
 "serviceDescription": "This map contains property parcels, roads and other general data.",
 "mapName": "Layers",
 "description": "",
 "copyrightText": "",
 "supportsDynamicLayers": true,
 "layers": [
  {
   "id": 0,
   "name": "1:250,000",
   "parentLayerId": -1,
   "defaultVisibility": true,
   "subLayerIds": [
    1,
    2,
    3,
    6,
    7,
    8,
    9,
    10,
    11,
    12,
    13
   ],
   "minScale": 0,
   "maxScale": 100002
  },
  {
   "id": 1,
   "name": "Major Roads",
   "parentLayerId": 0,
   "defaultVisibility": true,
   "subLayerIds": null,
   "minScale": 500000,
   "maxScale": 249999
  },
  {
   "id": 2,
   "name": "Railroads",
   "parentLayerId": 0,
   "defaultVisibility": true,
   "subLayerIds": null,
   "minScale": 0,
   "maxScale": 0
  },
  {
   "id": 3,
   "name": "Water",
   "parentLayerId": 0,
   "defaultVisibility": true,
   "subLayerIds": [
    4,
    5
   ],
   "minScale": 0,
   "maxScale": 0
  },
  {
   "id": 4,
   "name": "Streams & Rivers",
   "parentLayerId": 3,
   "defaultVisibility": true,
   "subLayerIds": null,
   "minScale": 0,
   "maxScale": 0
  },
  {
   "id": 5,
   "name": "Lakes",
   "parentLayerId": 3,
   "defaultVisibility": true,
   "subLayerIds": null,
   "minScale": 0,
   "maxScale": 0
  },
  {
   "id": 6,
   "name": "Municipalities",
   "parentLayerId": 0,
   "defaultVisibility": true,
   "subLayerIds": null,
   "minScale": 0,
   "maxScale": 0
  },
  {
   "id": 7,
   "name": "Parcel Lines",
   "parentLayerId": 0,
   "defaultVisibility": true,
   "subLayerIds": null,
   "minScale": 0,
   "maxScale": 0
  },
  {
   "id": 8,
   "name": "Surrounding Municipalities",
   "parentLayerId": 0,
   "defaultVisibility": true,
   "subLayerIds": null,
   "minScale": 0,
   "maxScale": 0
  },
  {
   "id": 9,
   "name": "Counties_ESRI",
   "parentLayerId": 0,
   "defaultVisibility": true,
   "subLayerIds": null,
   "minScale": 0,
   "maxScale": 249999
  },
  {
   "id": 10,
   "name": "Counties",
   "parentLayerId": 0,
   "defaultVisibility": true,
   "subLayerIds": null,
   "minScale": 0,
   "maxScale": 0
  },
  {
   "id": 11,
   "name": "Counties_Bndry_NoClhnLine",
   "parentLayerId": 0,
   "defaultVisibility": true,
   "subLayerIds": null,
   "minScale": 0,
   "maxScale": 0
  },
  {
   "id": 12,
   "name": "MaskLayer",
   "parentLayerId": 0,
   "defaultVisibility": true,
   "subLayerIds": null,
   "minScale": 0,
   "maxScale": 0
  },
  {
   "id": 13,
   "name": "statewidedem",
   "parentLayerId": 0,
   "defaultVisibility": true,
   "subLayerIds": null,
   "minScale": 0,
   "maxScale": 0
  },
  {
   "id": 14,
   "name": "1:100,000",
   "parentLayerId": -1,
   "defaultVisibility": true,
   "subLayerIds": [
    15,
    17,
    21,
    22,
    23,
    24,
    25,
    28,
    29,
    30,
    31,
    32,
    33
   ],
   "minScale": 100001,
   "maxScale": 63362
  },
  {
   "id": 15,
   "name": "Calhoun_RoadsAnno_100000",
   "parentLayerId": 14,
   "defaultVisibility": true,
   "subLayerIds": [
    16
   ],
   "minScale": 0,
   "maxScale": 0
  },
  {
   "id": 16,
   "name": "Default",
   "parentLayerId": 15,
   "defaultVisibility": true,
   "subLayerIds": null,
   "minScale": 0,
   "maxScale": 0
  },
  {
   "id": 17,
   "name": "MajorRoadsAnno_100000",
   "parentLayerId": 14,
   "defaultVisibility": true,
   "subLayerIds": [
    18,
    19,
    20
   ],
   "minScale": 0,
   "maxScale": 0
  },
  {
   "id": 18,
   "name": "Interstate",
   "parentLayerId": 17,
   "defaultVisibility": true,
   "subLayerIds": null,
   "minScale": 0,
   "maxScale": 0
  },
  {
   "id": 19,
   "name": "US Hwys",
   "parentLayerId": 17,
   "defaultVisibility": true,
   "subLayerIds": null,
   "minScale": 0,
   "maxScale": 0
  },
  {
   "id": 20,
   "name": "State Hwys",
   "parentLayerId": 17,
   "defaultVisibility": true,
   "subLayerIds": null,
   "minScale": 0,
   "maxScale": 0
  },
  {
   "id": 21,
   "name": "Major Roads",
   "parentLayerId": 14,
   "defaultVisibility": true,
   "subLayerIds": null,
   "minScale": 0,
   "maxScale": 0
  },
  {
   "id": 22,
   "name": "Calhoun Roads",
   "parentLayerId": 14,
   "defaultVisibility": true,
   "subLayerIds": null,
   "minScale": 0,
   "maxScale": 0
  },
  {
   "id": 23,
   "name": "Railroads",
   "parentLayerId": 14,
   "defaultVisibility": true,
   "subLayerIds": null,
   "minScale": 0,
   "maxScale": 0
  },
  {
   "id": 24,
   "name": "Counties_ESRI",
   "parentLayerId": 14,
   "defaultVisibility": true,
   "subLayerIds": null,
   "minScale": 0,
   "maxScale": 0
  },
  {
   "id": 25,
   "name": "Water",
   "parentLayerId": 14,
   "defaultVisibility": true,
   "subLayerIds": [
    26,
    27
   ],
   "minScale": 0,
   "maxScale": 0
  },
  {
   "id": 26,
   "name": "Rivers",
   "parentLayerId": 25,
   "defaultVisibility": true,
   "subLayerIds": null,
   "minScale": 0,
   "maxScale": 0
  },
  {
   "id": 27,
   "name": "Lakes",
   "parentLayerId": 25,
   "defaultVisibility": true,
   "subLayerIds": null,
   "minScale": 0,
   "maxScale": 0
  },
  {
   "id": 28,
   "name": "Municipalities",
   "parentLayerId": 14,
   "defaultVisibility": true,
   "subLayerIds": null,
   "minScale": 0,
   "maxScale": 0
  },
  {
   "id": 29,
   "name": "Parcel Lines",
   "parentLayerId": 14,
   "defaultVisibility": true,
   "subLayerIds": null,
   "minScale": 0,
   "maxScale": 0
  },
  {
   "id": 30,
   "name": "Counties",
   "parentLayerId": 14,
   "defaultVisibility": true,
   "subLayerIds": null,
   "minScale": 0,
   "maxScale": 0
  },
  {
   "id": 31,
   "name": "Counties_Bndry_NoClhnLine",
   "parentLayerId": 14,
   "defaultVisibility": true,
   "subLayerIds": null,
   "minScale": 0,
   "maxScale": 0
  },
  {
   "id": 32,
   "name": "MaskLayer",
   "parentLayerId": 14,
   "defaultVisibility": true,
   "subLayerIds": null,
   "minScale": 0,
   "maxScale": 0
  },
  {
   "id": 33,
   "name": "statewidedem",
   "parentLayerId": 14,
   "defaultVisibility": true,
   "subLayerIds": null,
   "minScale": 0,
   "maxScale": 0
  },
  {
   "id": 34,
   "name": "1:63,360",
   "parentLayerId": -1,
   "defaultVisibility": true,
   "subLayerIds": [
    35,
    37,
    41,
    42,
    43,
    44,
    45,
    46,
    47,
    48
   ],
   "minScale": 63361,
   "maxScale": 24002
  },
  {
   "id": 35,
   "name": "Calhoun_RoadsAnno_63360",
   "parentLayerId": 34,
   "defaultVisibility": true,
   "subLayerIds": [
    36
   ],
   "minScale": 0,
   "maxScale": 0
  },
  {
   "id": 36,
   "name": "Default",
   "parentLayerId": 35,
   "defaultVisibility": true,
   "subLayerIds": null,
   "minScale": 0,
   "maxScale": 0
  },
  {
   "id": 37,
   "name": "MajorRoadsAnno_63360",
   "parentLayerId": 34,
   "defaultVisibility": true,
   "subLayerIds": [
    38,
    39,
    40
   ],
   "minScale": 0,
   "maxScale": 0
  },
  {
   "id": 38,
   "name": "Interstate",
   "parentLayerId": 37,
   "defaultVisibility": true,
   "subLayerIds": null,
   "minScale": 0,
   "maxScale": 0
  },
  {
   "id": 39,
   "name": "US Hwys",
   "parentLayerId": 37,
   "defaultVisibility": true,
   "subLayerIds": null,
   "minScale": 0,
   "maxScale": 0
  },
  {
   "id": 40,
   "name": "State Hwys",
   "parentLayerId": 37,
   "defaultVisibility": true,
   "subLayerIds": null,
   "minScale": 0,
   "maxScale": 0
  },
  {
   "id": 41,
   "name": "Major Roads",
   "parentLayerId": 34,
   "defaultVisibility": true,
   "subLayerIds": null,
   "minScale": 0,
   "maxScale": 0
  },
  {
   "id": 42,
   "name": "Calhoun Roads",
   "parentLayerId": 34,
   "defaultVisibility": true,
   "subLayerIds": null,
   "minScale": 0,
   "maxScale": 0
  },
  {
   "id": 43,
   "name": "Railroads",
   "parentLayerId": 34,
   "defaultVisibility": true,
   "subLayerIds": null,
   "minScale": 0,
   "maxScale": 0
  },
  {
   "id": 44,
   "name": "Municipalities",
   "parentLayerId": 34,
   "defaultVisibility": true,
   "subLayerIds": null,
   "minScale": 0,
   "maxScale": 0
  },
  {
   "id": 45,
   "name": "Parcel Lines",
   "parentLayerId": 34,
   "defaultVisibility": true,
   "subLayerIds": null,
   "minScale": 0,
   "maxScale": 0
  },
  {
   "id": 46,
   "name": "Counties_ESRI",
   "parentLayerId": 34,
   "defaultVisibility": true,
   "subLayerIds": null,
   "minScale": 500000000,
   "maxScale": 0
  },
  {
   "id": 47,
   "name": "Counties_Bndry_NoClhnLine",
   "parentLayerId": 34,
   "defaultVisibility": true,
   "subLayerIds": null,
   "minScale": 0,
   "maxScale": 0
  },
  {
   "id": 48,
   "name": "Counties",
   "parentLayerId": 34,
   "defaultVisibility": true,
   "subLayerIds": null,
   "minScale": 0,
   "maxScale": 0
  },
  {
   "id": 49,
   "name": "1:24,000",
   "parentLayerId": -1,
   "defaultVisibility": true,
   "subLayerIds": [
    50
   ],
   "minScale": 24001,
   "maxScale": 12002
  },
  {
   "id": 50,
   "name": "Roads_Parcels",
   "parentLayerId": 49,
   "defaultVisibility": true,
   "subLayerIds": [
    51,
    53,
    57,
    58,
    59,
    60,
    61,
    62
   ],
   "minScale": 0,
   "maxScale": 0
  },
  {
   "id": 51,
   "name": "Calhoun_RoadsAnno24000",
   "parentLayerId": 50,
   "defaultVisibility": true,
   "subLayerIds": [
    52
   ],
   "minScale": 0,
   "maxScale": 24000
  },
  {
   "id": 52,
   "name": "Default",
   "parentLayerId": 51,
   "defaultVisibility": true,
   "subLayerIds": null,
   "minScale": 24000,
   "maxScale": 7921
  },
  {
   "id": 53,
   "name": "Major_RoadsAnno24000",
   "parentLayerId": 50,
   "defaultVisibility": true,
   "subLayerIds": [
    54,
    55,
    56
   ],
   "minScale": 0,
   "maxScale": 24000
  },
  {
   "id": 54,
   "name": "Interstate",
   "parentLayerId": 53,
   "defaultVisibility": true,
   "subLayerIds": null,
   "minScale": 24000,
   "maxScale": 0
  },
  {
   "id": 55,
   "name": "US",
   "parentLayerId": 53,
   "defaultVisibility": true,
   "subLayerIds": null,
   "minScale": 24000,
   "maxScale": 0
  },
  {
   "id": 56,
   "name": "SC",
   "parentLayerId": 53,
   "defaultVisibility": true,
   "subLayerIds": null,
   "minScale": 24000,
   "maxScale": 0
  },
  {
   "id": 57,
   "name": "Interstate",
   "parentLayerId": 50,
   "defaultVisibility": true,
   "subLayerIds": null,
   "minScale": 0,
   "maxScale": 0
  },
  {
   "id": 58,
   "name": "State Hwy",
   "parentLayerId": 50,
   "defaultVisibility": true,
   "subLayerIds": null,
   "minScale": 0,
   "maxScale": 0
  },
  {
   "id": 59,
   "name": "US Hwy",
   "parentLayerId": 50,
   "defaultVisibility": true,
   "subLayerIds": null,
   "minScale": 0,
   "maxScale": 0
  },
  {
   "id": 60,
   "name": "Calhoun Roads",
   "parentLayerId": 50,
   "defaultVisibility": true,
   "subLayerIds": null,
   "minScale": 0,
   "maxScale": 0
  },
  {
   "id": 61,
   "name": "Railroads",
   "parentLayerId": 50,
   "defaultVisibility": true,
   "subLayerIds": null,
   "minScale": 0,
   "maxScale": 0
  },
  {
   "id": 62,
   "name": "Parcel Lines",
   "parentLayerId": 50,
   "defaultVisibility": true,
   "subLayerIds": null,
   "minScale": 0,
   "maxScale": 0
  },
  {
   "id": 63,
   "name": "1:12,000 to 4,800",
   "parentLayerId": -1,
   "defaultVisibility": true,
   "subLayerIds": [
    64,
    66,
    70,
    72,
    74,
    78,
    80,
    82,
    86,
    88
   ],
   "minScale": 12001,
   "maxScale": 2402
  },
  {
   "id": 64,
   "name": "Calhoun_RoadsAnno12000",
   "parentLayerId": 63,
   "defaultVisibility": true,
   "subLayerIds": [
    65
   ],
   "minScale": 12000,
   "maxScale": 7921
  },
  {
   "id": 65,
   "name": "Default",
   "parentLayerId": 64,
   "defaultVisibility": true,
   "subLayerIds": null,
   "minScale": 24000,
   "maxScale": 7921
  },
  {
   "id": 66,
   "name": "Major_RoadsAnno12000",
   "parentLayerId": 63,
   "defaultVisibility": true,
   "subLayerIds": [
    67,
    68,
    69
   ],
   "minScale": 12000,
   "maxScale": 7921
  },
  {
   "id": 67,
   "name": "Interstate",
   "parentLayerId": 66,
   "defaultVisibility": true,
   "subLayerIds": null,
   "minScale": 24000,
   "maxScale": 0
  },
  {
   "id": 68,
   "name": "US",
   "parentLayerId": 66,
   "defaultVisibility": true,
   "subLayerIds": null,
   "minScale": 24000,
   "maxScale": 0
  },
  {
   "id": 69,
   "name": "SC",
   "parentLayerId": 66,
   "defaultVisibility": true,
   "subLayerIds": null,
   "minScale": 24000,
   "maxScale": 0
  },
  {
   "id": 70,
   "name": "Parcel_PolygonAnno12000",
   "parentLayerId": 63,
   "defaultVisibility": true,
   "subLayerIds": [
    71
   ],
   "minScale": 12000,
   "maxScale": 7921
  },
  {
   "id": 71,
   "name": "Default",
   "parentLayerId": 70,
   "defaultVisibility": true,
   "subLayerIds": null,
   "minScale": 12000,
   "maxScale": 601
  },
  {
   "id": 72,
   "name": "Calhoun_RoadsAnno7920",
   "parentLayerId": 63,
   "defaultVisibility": true,
   "subLayerIds": [
    73
   ],
   "minScale": 7920,
   "maxScale": 4801
  },
  {
   "id": 73,
   "name": "Default",
   "parentLayerId": 72,
   "defaultVisibility": true,
   "subLayerIds": null,
   "minScale": 7920,
   "maxScale": 4801
  },
  {
   "id": 74,
   "name": "Major_RoadsAnno7920",
   "parentLayerId": 63,
   "defaultVisibility": true,
   "subLayerIds": [
    75,
    76,
    77
   ],
   "minScale": 7920,
   "maxScale": 4801
  },
  {
   "id": 75,
   "name": "Interstate",
   "parentLayerId": 74,
   "defaultVisibility": true,
   "subLayerIds": null,
   "minScale": 24000,
   "maxScale": 0
  },
  {
   "id": 76,
   "name": "US",
   "parentLayerId": 74,
   "defaultVisibility": true,
   "subLayerIds": null,
   "minScale": 24000,
   "maxScale": 0
  },
  {
   "id": 77,
   "name": "SC",
   "parentLayerId": 74,
   "defaultVisibility": true,
   "subLayerIds": null,
   "minScale": 24000,
   "maxScale": 0
  },
  {
   "id": 78,
   "name": "Parcel_PolygonAnno7920",
   "parentLayerId": 63,
   "defaultVisibility": true,
   "subLayerIds": [
    79
   ],
   "minScale": 7920,
   "maxScale": 4801
  },
  {
   "id": 79,
   "name": "Default",
   "parentLayerId": 78,
   "defaultVisibility": true,
   "subLayerIds": null,
   "minScale": 12000,
   "maxScale": 601
  },
  {
   "id": 80,
   "name": "Calhoun_RoadsAnno4800",
   "parentLayerId": 63,
   "defaultVisibility": true,
   "subLayerIds": [
    81
   ],
   "minScale": 4800,
   "maxScale": 2401
  },
  {
   "id": 81,
   "name": "Default",
   "parentLayerId": 80,
   "defaultVisibility": true,
   "subLayerIds": null,
   "minScale": 4800,
   "maxScale": 0
  },
  {
   "id": 82,
   "name": "Major_RoadsAnno4800",
   "parentLayerId": 63,
   "defaultVisibility": true,
   "subLayerIds": [
    83,
    84,
    85
   ],
   "minScale": 4800,
   "maxScale": 2401
  },
  {
   "id": 83,
   "name": "Interstate",
   "parentLayerId": 82,
   "defaultVisibility": true,
   "subLayerIds": null,
   "minScale": 24000,
   "maxScale": 0
  },
  {
   "id": 84,
   "name": "US",
   "parentLayerId": 82,
   "defaultVisibility": true,
   "subLayerIds": null,
   "minScale": 24000,
   "maxScale": 0
  },
  {
   "id": 85,
   "name": "SC",
   "parentLayerId": 82,
   "defaultVisibility": true,
   "subLayerIds": null,
   "minScale": 24000,
   "maxScale": 0
  },
  {
   "id": 86,
   "name": "Parcel_PolygonAnno4800",
   "parentLayerId": 63,
   "defaultVisibility": true,
   "subLayerIds": [
    87
   ],
   "minScale": 4800,
   "maxScale": 2401
  },
  {
   "id": 87,
   "name": "Default",
   "parentLayerId": 86,
   "defaultVisibility": true,
   "subLayerIds": null,
   "minScale": 12000,
   "maxScale": 601
  },
  {
   "id": 88,
   "name": "Roads_Parcels",
   "parentLayerId": 63,
   "defaultVisibility": true,
   "subLayerIds": [
    89,
    90,
    91,
    92,
    93,
    94
   ],
   "minScale": 0,
   "maxScale": 0
  },
  {
   "id": 89,
   "name": "Interstate",
   "parentLayerId": 88,
   "defaultVisibility": true,
   "subLayerIds": null,
   "minScale": 0,
   "maxScale": 0
  },
  {
   "id": 90,
   "name": "State Hwy",
   "parentLayerId": 88,
   "defaultVisibility": true,
   "subLayerIds": null,
   "minScale": 0,
   "maxScale": 0
  },
  {
   "id": 91,
   "name": "US Hwy",
   "parentLayerId": 88,
   "defaultVisibility": true,
   "subLayerIds": null,
   "minScale": 0,
   "maxScale": 0
  },
  {
   "id": 92,
   "name": "Calhoun Roads",
   "parentLayerId": 88,
   "defaultVisibility": true,
   "subLayerIds": null,
   "minScale": 0,
   "maxScale": 0
  },
  {
   "id": 93,
   "name": "Railroads",
   "parentLayerId": 88,
   "defaultVisibility": true,
   "subLayerIds": null,
   "minScale": 0,
   "maxScale": 0
  },
  {
   "id": 94,
   "name": "Parcel Lines",
   "parentLayerId": 88,
   "defaultVisibility": true,
   "subLayerIds": null,
   "minScale": 0,
   "maxScale": 0
  },
  {
   "id": 95,
   "name": "1:2,400",
   "parentLayerId": -1,
   "defaultVisibility": true,
   "subLayerIds": [
    96
   ],
   "minScale": 2401,
   "maxScale": 300
  },
  {
   "id": 96,
   "name": "Roads_Parcels",
   "parentLayerId": 95,
   "defaultVisibility": true,
   "subLayerIds": [
    97,
    99,
    103,
    105,
    107,
    111,
    113,
    115,
    119,
    121,
    122,
    123,
    124,
    125,
    126
   ],
   "minScale": 0,
   "maxScale": 0
  },
  {
   "id": 97,
   "name": "Calhoun_RoadsAnno2400",
   "parentLayerId": 96,
   "defaultVisibility": true,
   "subLayerIds": [
    98
   ],
   "minScale": 2400,
   "maxScale": 1201
  },
  {
   "id": 98,
   "name": "Default",
   "parentLayerId": 97,
   "defaultVisibility": true,
   "subLayerIds": null,
   "minScale": 4800,
   "maxScale": 0
  },
  {
   "id": 99,
   "name": "Major_RoadsAnno2400",
   "parentLayerId": 96,
   "defaultVisibility": true,
   "subLayerIds": [
    100,
    101,
    102
   ],
   "minScale": 2400,
   "maxScale": 1201
  },
  {
   "id": 100,
   "name": "Interstate",
   "parentLayerId": 99,
   "defaultVisibility": true,
   "subLayerIds": null,
   "minScale": 24000,
   "maxScale": 0
  },
  {
   "id": 101,
   "name": "US",
   "parentLayerId": 99,
   "defaultVisibility": true,
   "subLayerIds": null,
   "minScale": 24000,
   "maxScale": 0
  },
  {
   "id": 102,
   "name": "SC",
   "parentLayerId": 99,
   "defaultVisibility": true,
   "subLayerIds": null,
   "minScale": 24000,
   "maxScale": 0
  },
  {
   "id": 103,
   "name": "Parcel_PolygonAnno2400",
   "parentLayerId": 96,
   "defaultVisibility": true,
   "subLayerIds": [
    104
   ],
   "minScale": 2400,
   "maxScale": 1201
  },
  {
   "id": 104,
   "name": "Default",
   "parentLayerId": 103,
   "defaultVisibility": true,
   "subLayerIds": null,
   "minScale": 12000,
   "maxScale": 601
  },
  {
   "id": 105,
   "name": "Calhoun_RoadsAnno1200",
   "parentLayerId": 96,
   "defaultVisibility": true,
   "subLayerIds": [
    106
   ],
   "minScale": 1200,
   "maxScale": 601
  },
  {
   "id": 106,
   "name": "Default",
   "parentLayerId": 105,
   "defaultVisibility": true,
   "subLayerIds": null,
   "minScale": 4800,
   "maxScale": 0
  },
  {
   "id": 107,
   "name": "Major_RoadsAnno1200",
   "parentLayerId": 96,
   "defaultVisibility": true,
   "subLayerIds": [
    108,
    109,
    110
   ],
   "minScale": 1200,
   "maxScale": 601
  },
  {
   "id": 108,
   "name": "Interstate",
   "parentLayerId": 107,
   "defaultVisibility": true,
   "subLayerIds": null,
   "minScale": 24000,
   "maxScale": 0
  },
  {
   "id": 109,
   "name": "US",
   "parentLayerId": 107,
   "defaultVisibility": true,
   "subLayerIds": null,
   "minScale": 24000,
   "maxScale": 0
  },
  {
   "id": 110,
   "name": "SC",
   "parentLayerId": 107,
   "defaultVisibility": true,
   "subLayerIds": null,
   "minScale": 24000,
   "maxScale": 0
  },
  {
   "id": 111,
   "name": "Parcel_PolygonAnno1200",
   "parentLayerId": 96,
   "defaultVisibility": true,
   "subLayerIds": [
    112
   ],
   "minScale": 1200,
   "maxScale": 601
  },
  {
   "id": 112,
   "name": "Default",
   "parentLayerId": 111,
   "defaultVisibility": true,
   "subLayerIds": null,
   "minScale": 12000,
   "maxScale": 601
  },
  {
   "id": 113,
   "name": "Calhoun_RoadsAnno600",
   "parentLayerId": 96,
   "defaultVisibility": true,
   "subLayerIds": [
    114
   ],
   "minScale": 600,
   "maxScale": 0
  },
  {
   "id": 114,
   "name": "Default",
   "parentLayerId": 113,
   "defaultVisibility": true,
   "subLayerIds": null,
   "minScale": 4800,
   "maxScale": 0
  },
  {
   "id": 115,
   "name": "Major_RoadsAnno600",
   "parentLayerId": 96,
   "defaultVisibility": true,
   "subLayerIds": [
    116,
    117,
    118
   ],
   "minScale": 600,
   "maxScale": 0
  },
  {
   "id": 116,
   "name": "Interstate",
   "parentLayerId": 115,
   "defaultVisibility": true,
   "subLayerIds": null,
   "minScale": 24000,
   "maxScale": 0
  },
  {
   "id": 117,
   "name": "US",
   "parentLayerId": 115,
   "defaultVisibility": true,
   "subLayerIds": null,
   "minScale": 24000,
   "maxScale": 0
  },
  {
   "id": 118,
   "name": "SC",
   "parentLayerId": 115,
   "defaultVisibility": true,
   "subLayerIds": null,
   "minScale": 24000,
   "maxScale": 0
  },
  {
   "id": 119,
   "name": "Parcel_PolygonAnno600",
   "parentLayerId": 96,
   "defaultVisibility": true,
   "subLayerIds": [
    120
   ],
   "minScale": 600,
   "maxScale": 0
  },
  {
   "id": 120,
   "name": "Default",
   "parentLayerId": 119,
   "defaultVisibility": true,
   "subLayerIds": null,
   "minScale": 600,
   "maxScale": 0
  },
  {
   "id": 121,
   "name": "Interstate",
   "parentLayerId": 96,
   "defaultVisibility": true,
   "subLayerIds": null,
   "minScale": 0,
   "maxScale": 0
  },
  {
   "id": 122,
   "name": "State Hwy",
   "parentLayerId": 96,
   "defaultVisibility": true,
   "subLayerIds": null,
   "minScale": 0,
   "maxScale": 0
  },
  {
   "id": 123,
   "name": "US Hwy",
   "parentLayerId": 96,
   "defaultVisibility": true,
   "subLayerIds": null,
   "minScale": 0,
   "maxScale": 0
  },
  {
   "id": 124,
   "name": "Calhoun Roads",
   "parentLayerId": 96,
   "defaultVisibility": true,
   "subLayerIds": null,
   "minScale": 0,
   "maxScale": 0
  },
  {
   "id": 125,
   "name": "Railroads",
   "parentLayerId": 96,
   "defaultVisibility": true,
   "subLayerIds": null,
   "minScale": 0,
   "maxScale": 0
  },
  {
   "id": 126,
   "name": "Parcel Lines",
   "parentLayerId": 96,
   "defaultVisibility": true,
   "subLayerIds": null,
   "minScale": 0,
   "maxScale": 0
  },
  {
   "id": 127,
   "name": "ParcelPoly",
   "parentLayerId": -1,
   "defaultVisibility": true,
   "subLayerIds": null,
   "minScale": 0,
   "maxScale": 0
  }
 ],
 "tables": [],
 "spatialReference": {
  "wkid": 2273,
  "latestWkid": 2273
 },
 "singleFusedMapCache": true,
 "tileInfo": {
  "rows": 256,
  "cols": 256,
  "dpi": 96,
  "format": "PNG8",
  "compressionQuality": 0,
  "origin": {
   "x": -122907600,
   "y": 157014500
  },
  "spatialReference": {
   "wkid": 2273,
   "latestWkid": 2273
  },
  "lods": [
   {
    "level": 0,
    "resolution": 217.0143229175347,
    "scale": 250000
   },
   {
    "level": 1,
    "resolution": 86.8057291670139,
    "scale": 100000
   },
   {
    "level": 2,
    "resolution": 55.00011000022,
    "scale": 63360
   },
   {
    "level": 3,
    "resolution": 20.833375000083333,
    "scale": 24000
   },
   {
    "level": 4,
    "resolution": 10.416687500041666,
    "scale": 12000
   },
   {
    "level": 5,
    "resolution": 6.8750137500275,
    "scale": 7920
   },
   {
    "level": 6,
    "resolution": 4.166675000016666,
    "scale": 4800
   },
   {
    "level": 7,
    "resolution": 2.083337500008333,
    "scale": 2400
   },
   {
    "level": 8,
    "resolution": 1.0416687500041666,
    "scale": 1200
   },
   {
    "level": 9,
    "resolution": 0.5208343750020833,
    "scale": 600
   }
  ]
 },
 "initialExtent": {
  "xmin": 1933511.820513971,
  "ymin": 698369.9667686146,
  "xmax": 2285149.8036057614,
  "ymax": 808511.1201502582,
  "spatialReference": {
   "wkid": 2273,
   "latestWkid": 2273
  }
 },
 "fullExtent": {
  "xmin": 1910408.3331951308,
  "ymin": 542457.7536043623,
  "xmax": 2224557.638750688,
  "ymax": 796450.8091599199,
  "spatialReference": {
   "wkid": 2273,
   "latestWkid": 2273
  }
 },
 "minScale": 250000,
 "maxScale": 600,
 "units": "esriFeet",
 "supportedImageFormatTypes": "PNG32,PNG24,PNG,JPG,DIB,TIFF,EMF,PS,PDF,GIF,SVG,SVGZ,BMP",
