{
 "currentVersion": 10.51,
 "serviceDescription": "Aerial photography basemap that includes Laurens County 2014 and Greenville County 2016 orthophotography.",
 "mapName": "Layers",
 "description": "",
 "copyrightText": "",
 "supportsDynamicLayers": true,
 "layers": [
  {
   "id": 0,
   "name": "LCnty_Aerials_14",
   "parentLayerId": -1,
   "defaultVisibility": true,
   "subLayerIds": null,
   "minScale": 0,
   "maxScale": 0
  },
  {
   "id": 1,
   "name": "GCnty_Aerials_16",
   "parentLayerId": -1,
   "defaultVisibility": true,
   "subLayerIds": null,
   "minScale": 0,
   "maxScale": 0
  }
 ],
 "tables": [],
 "spatialReference": {
  "wkid": 2273,
  "latestWkid": 2273
 },
 "singleFusedMapCache": true,
 "tileInfo": {
  "rows": 256,
  "cols": 256,
  "dpi": 96,
  "format": "JPEG",
  "compressionQuality": 75,
  "origin": {
   "x": -122907600,
   "y": 157014500
  },
  "spatialReference": {
   "wkid": 2273,
   "latestWkid": 2273
  },
  "lods": [
   {
    "level": 0,
    "resolution": 295.1221180220138,
    "scale": 339980
   },
   {
    "level": 1,
    "resolution": 86.8057291670139,
    "scale": 100000
   },
   {
    "level": 2,
    "resolution": 55.00011000022,
    "scale": 63360
   },
   {
    "level": 3,
    "resolution": 20.833375000083333,
    "scale": 24000
   },
   {
    "level": 4,
    "resolution": 10.416687500041666,
    "scale": 12000
   },
   {
    "level": 5,
    "resolution": 6.8750137500275,
    "scale": 7920
   },
   {
    "level": 6,
    "resolution": 4.166675000016666,
    "scale": 4800
   },
   {
    "level": 7,
    "resolution": 2.083337500008333,
    "scale": 2400
   },
   {
    "level": 8,
    "resolution": 1.0416687500041666,
    "scale": 1200
   },
   {
    "level": 9,
    "resolution": 0.5208343750020833,
    "scale": 600
   }
  ]
 },
 "initialExtent": {
  "xmin": 1022503.2565667122,
  "ymin": 792941.7793322867,
  "xmax": 1977965.9942468624,
  "ymax": 1280657.887392492,
  "spatialReference": {
   "wkid": 2273,
   "latestWkid": 2273
  }
 },
 "fullExtent": {
  "xmin": 1553950.4479166665,
  "ymin": 870730.9982638888,
  "xmax": 1821330.5520833335,
  "ymax": 1072299.0017361112,
  "spatialReference": {
   "wkid": 2273,
   "latestWkid": 2273
  }
 },
 "minScale": 339980,
 "maxScale": 600,
 "units": "esriFeet",
 "supportedImageFormatTypes": "PNG32,PNG24,PNG,JPG,DIB,TIFF,EMF,PS,PDF,GIF,SVG,SVGZ,BMP",
 "documentInfo": {
  "Title": "Aerial Photography Basemap - (Laurens County 2014 /Greenville County 2016)",
  "Author": "Matt Mole",
  "Comments": "Aerial photography basemap that includes Laurens County 2014 and Greenville County 2016 orthophotography.",
  "Subject": "Aerial photography basemap that includes Laurens County 2014 and Greenville County 2016 orthophotography.",
  "Category": "",
  "AntialiasingMode": "None",
  "TextAntialiasingMode": "Force",
  "Keywords": "Aerials;Orthos;Photos;Laurens County; Greenville County"
 },
 "capabilities": "Map,Query,Data",
 "supportedQueryFormats": "JSON, AMF, geoJSON",
 "exportTilesAllowed": false,
 "datumTransformations": [
  {
   "geoTransforms": [
    {
     "wkid": 108354,
     "latestWkid": 108354,
     "transformForward": false,
     "name": "WGS_1984_(ITRF00)_To_NAD_1983_2011"
    },
    {
     "wkid": 8088,
     "latestWkid": 1188,
     "transformForward": false,
     "name": "NAD_1983_To_WGS_1984_1"
    }
   ]
  },
  {
   "geoTransforms": [
    {
     "wkid": 8088,
     "latestWkid": 1188,
     "transformForward": true,
     "name": "NAD_1983_To_WGS_1984_1"
    },
    {
     "wkid": 108354,
     "latestWkid": 108354,
     "transformForward": true,
     "name": "WGS_1984_(ITRF00)_To_NAD_1983_2011"
    }
   ]
  }
 ],
 "supportsDatumTransformation": true,
 "maxRecordCount": 1000,
 "maxImageHeight": 4096,
 "maxImageWidth": 4096,
 "supportedExtensions": ""
}
